BEGIN:VCALENDAR
VERSION:2.0
PRODID:-//Greener Henley - ECPv6.15.20//NONSGML v1.0//EN
CALSCALE:GREGORIAN
METHOD:PUBLISH
X-WR-CALNAME:Greener Henley
X-ORIGINAL-URL:https://greenerhenley.org.uk
X-WR-CALDESC:Events for Greener Henley
REFRESH-INTERVAL;VALUE=DURATION:PT1H
X-Robots-Tag:noindex
X-PUBLISHED-TTL:PT1H
BEGIN:VTIMEZONE
TZID:UTC
BEGIN:STANDARD
TZOFFSETFROM:+0000
TZOFFSETTO:+0000
TZNAME:UTC
DTSTART:20250101T000000
END:STANDARD
END:VTIMEZONE
BEGIN:VEVENT
DTSTART;TZID=UTC:20260205T173000
DTEND;TZID=UTC:20260205T190000
DTSTAMP:20260422T205115
CREATED:20260128T224318Z
LAST-MODIFIED:20260128T224318Z
UID:21108-1770312600-1770318000@greenerhenley.org.uk
SUMMARY:People\, Planet\, Pint - February meet-up
DESCRIPTION:We’re really happy to be restarting People\, Planet\, Pint — our relaxed monthly get-together for the Greener Henley community. \nRight now\, it feels more important than ever to connect — to meet face-to-face\, share ideas\, support one another\, and remember that positive change starts locally 💚 \nThat’s exactly what People\, Planet\, Pint is about -no talks\, no agenda\, just good conversation\, friendly faces\, and a drink in hand. \nArrive early for a free drink\, then join us on the first Thursday of every month \nEveryone welcome. Save the date and come along.
URL:https://greenerhenley.org.uk/event/people-planet-pint-february-meet-up/
LOCATION:The Anchor Inn\, Friday Street\, Henley-on-Thames\, RG9 1AH\, United Kingdom
CATEGORIES:Meeting,People Planet Pint
ATTACH;FMTTYPE=image/jpeg:https://greenerhenley.org.uk/wp-content/uploads/2026/01/ppp.jpg
END:VEVENT
BEGIN:VEVENT
DTSTART;TZID=UTC:20260226T140000
DTEND;TZID=UTC:20260226T150000
DTSTAMP:20260422T205115
CREATED:20260217T154815Z
LAST-MODIFIED:20260402T132128Z
UID:21128-1772114400-1772118000@greenerhenley.org.uk
SUMMARY:Nature Squared Plant Party
DESCRIPTION:This spring\, we’re giving our Nature Squared campaign a joyful boost – and you’re invited to be part of it! \nBy planting even a single square metre – in a garden\, on a balcony\, in pots\, at work\, school or in our public spaces  – we can create a living network of habitats linking across Henley and beyond. Individually small\, but together powerful. \nWhen we all plant a little\, nature grows a lot. \nWhile the full campaign launches later this spring\, we’ve already begun building a community of Plant Parents and Plant Fosterers – and this month\, we’re kicking things off with our very first Plant Party. \nJoin us on Thursday 26th February\, 2-3pm in the Committee Room\, Henley Town Hall for seeds\, cake & cordial! \nIt’s a chance to: \n\nPick up seeds\nMeet like-minded people\nLearn how Nature Squared works & what we’ll be planting\nFind out about Plant Parents & Plant Fosterers\nDiscover how you can get involved – no gardening experience needed\n\nTogether\, we can help pollinators thrive – and make our town bloom!
URL:https://greenerhenley.org.uk/event/nature-squared-plant-party/
LOCATION:Henley Town Hall\, Town Hall\, Market Place\, Henley-on-Thames\, Oxfordshire\, RG9 2AQ\, United Kingdom
CATEGORIES:Meeting,Nature Squared
ATTACH;FMTTYPE=image/jpeg:https://greenerhenley.org.uk/wp-content/uploads/2026/02/butterfly-crop.jpg
END:VEVENT
END:VCALENDAR