BEGIN:VCALENDAR
VERSION:2.0
PRODID:-//Greener Henley - ECPv6.15.20//NONSGML v1.0//EN
CALSCALE:GREGORIAN
METHOD:PUBLISH
X-ORIGINAL-URL:https://greenerhenley.org.uk
X-WR-CALDESC:Events for Greener Henley
REFRESH-INTERVAL;VALUE=DURATION:PT1H
X-Robots-Tag:noindex
X-PUBLISHED-TTL:PT1H
BEGIN:VTIMEZONE
TZID:UTC
BEGIN:STANDARD
TZOFFSETFROM:+0000
TZOFFSETTO:+0000
TZNAME:UTC
DTSTART:20240101T000000
END:STANDARD
END:VTIMEZONE
BEGIN:VEVENT
DTSTART;TZID=UTC:20250305T173000
DTEND;TZID=UTC:20250305T193000
DTSTAMP:20260422T181518
CREATED:20250221T185244Z
LAST-MODIFIED:20250224T185604Z
UID:19657-1741195800-1741203000@greenerhenley.org.uk
SUMMARY:GH monthly social - March
DESCRIPTION:We are partnering with Small99 to host People Planet Pint meet ups on the first Wednesday of every month\, 5:30pm – 7:30pm at the Little Angel over the bridge. \nNo agenda\, workshops or webinars. Just chat over some drinks. Pop down to join like-minded people to find more about what’s going on locally with all things green and how you can get involved. \nhttps://www.eventbrite.co.uk/e/henley-on-thames-small99s-people-planet-pinttm-sustainability-meetup-tickets-1246596456559
URL:https://greenerhenley.org.uk/event/gh-monthly-social-march/
LOCATION:The Little Angel\, Remenham Lane\, Henley on Thames\, RG9 2LS\, United Kingdom
CATEGORIES:Meeting
ATTACH;FMTTYPE=image/jpeg:https://greenerhenley.org.uk/wp-content/uploads/2025/01/external.jpg
END:VEVENT
BEGIN:VEVENT
DTSTART;TZID=UTC:20250312T200000
DTEND;TZID=UTC:20250312T220000
DTSTAMP:20260422T181518
CREATED:20250224T174452Z
LAST-MODIFIED:20250224T174557Z
UID:19651-1741809600-1741816800@greenerhenley.org.uk
SUMMARY:Green Screen: Rave on the Avon
DESCRIPTION:We’re excited to share that we have partnered up with a must-watch documentary that highlights the power of community and environmental activism: “Rave On For The Avon”. \nThis inspiring film dives into the efforts of Bristolians to save their favorite swimming spot\, blending stunning visuals with an uplifting soundtrack and showcasing the power of grassroots action. It’s a celebration of how creativity and passion can bring people together for a vital cause—defending our planet’s natural treasures. \nIf you care about local ecosystems and enjoy stories of hope and resilience\, this is one you can’t miss! \nJoin us for a panel discussion after the film with director Charlotte Sawyer\, Laura Reineke from Henley Mermaids plus other guests TBA. \nWatch the trailer and learn more \nBook your Tickets! \n 
URL:https://greenerhenley.org.uk/event/green-screen-rave-on-the-avon/
LOCATION:Henley Regal Picturehouse Cinema
CATEGORIES:Film,Green Screen
ATTACH;FMTTYPE=image/jpeg:https://greenerhenley.org.uk/wp-content/uploads/2025/02/rave-on-for-the-avon-film-screening-qa_web.jpg
END:VEVENT
END:VCALENDAR