BEGIN:VCALENDAR
VERSION:2.0
PRODID:-//Greener Henley - ECPv6.15.20//NONSGML v1.0//EN
CALSCALE:GREGORIAN
METHOD:PUBLISH
X-WR-CALNAME:Greener Henley
X-ORIGINAL-URL:https://greenerhenley.org.uk
X-WR-CALDESC:Events for Greener Henley
REFRESH-INTERVAL;VALUE=DURATION:PT1H
X-Robots-Tag:noindex
X-PUBLISHED-TTL:PT1H
BEGIN:VTIMEZONE
TZID:UTC
BEGIN:STANDARD
TZOFFSETFROM:+0000
TZOFFSETTO:+0000
TZNAME:UTC
DTSTART:20210101T000000
END:STANDARD
END:VTIMEZONE
BEGIN:VEVENT
DTSTART;TZID=UTC:20221130T182000
DTEND;TZID=UTC:20221130T213000
DTSTAMP:20260423T173120
CREATED:20221121T150428Z
LAST-MODIFIED:20221128T220243Z
UID:16115-1669832400-1669843800@greenerhenley.org.uk
SUMMARY:The Regal Cinema are screening “The Oil Machine”
DESCRIPTION:Join Greener Henley at the Henley Regal Picturehouse for a one-off screening of the new film The Oil Machine on Wednesday 30th November at 6:15pm at the Regal Picturehouse. \n\nThe Oil Machine explores our economic\, historical and emotional entanglement with fossil fuels. This promises to be an inspiring screening and conversation on our energy future.\n\nWatch the trailer:\n\nhttps://ne-np.facebook.com/RegalPicturehouse/videos/the-oil-machine-book-now/2434877030019721/\n\nAfter the film we’ll be joined by a panel including:\n\nEd Atkinson: steering committee member of Citizens Climate Lobby UK\, \nHelen Fraser: an independent financial advisor from Orchard House\nPatrick Fleming: renewable energy specialist and \nYelena Kalyuzhnova: Vice Dean (International) of Henley Business School. \n\nCome join the discussion. \nTickets cost £5 members and £8 non-members.\n6.15pm at The Regal cinema\, 30th November. \nBook tickets online here:\nhttps://ticketing.picturehouses.com/Ticketing/visSelectTickets.aspx?cinemacode=011&txtSessionId=38319&visLang=1 
URL:https://greenerhenley.org.uk/event/the-regal-cinema-are-screening-the-oil-machine/
ATTACH;FMTTYPE=image/jpeg:https://greenerhenley.org.uk/wp-content/uploads/2022/11/blog-header-oilmachine.jpg
END:VEVENT
BEGIN:VEVENT
DTSTART;TZID=UTC:20221123T093000
DTEND;TZID=UTC:20221123T123000
DTSTAMP:20260423T173120
CREATED:20221103T071313Z
LAST-MODIFIED:20221111T210003Z
UID:15988-1669195800-1669206600@greenerhenley.org.uk
SUMMARY:GH Wildlife Group - Mill/Marsh Meadows
DESCRIPTION:Mill/Marsh Meadows \nDate and time: Wednesday 23 November\, 9:30 – 12:30 \nMeeting place: The Mill Meadows car park\, just beyond the River & Rowing Museum. Sally has made arrangements with the Town Council for volunteers to park for free for the duration of the work party \nThings to bring: gardening gloves \nThe main task for this session will probably be raking up cut vegetation but it would be good to also cut some of the sedges and rushes in the ponds. As always\, litter picking will be on the agenda. See below for the more general information. Attached please find the risk assessment. \nGreener Henley Wildlife Group sessions \nOur sessions are generally pleasant and sociable occasions. Some of the work is quite strenuous\, but there are always lighter tasks for those who would prefer them\, for whatever reason. We have a break mid-morning when refreshments are provided: tea\, coffee and cake. Please bring your own gardening gloves. Any gardening gloves will be all right for tasks like pulling Himalayan Balsam but heavier ones will be needed for working with brambles. No previous experience is necessary\, and tools are usually provided. Tough clothes and stout footwear are recommended. Marsh Meadows is often wet underfoot so waterproof footwear is recommended when we are working there\, particularly if working in the pond area. Volunteers are welcome to join us for the full three hours or any part of them. \nIf you intend coming to work parties and haven’t already provided the information in the table below\, could I please ask you to do so. \n\n\n\nYour Contact Details\n\n\nName:\n\n\n\nAddress:\n\n\n\nHome phone:\n\n\n\nMobile:\n\n\n\nEmail:\n\n\n\nSignature: \n  \n \nDate:
URL:https://greenerhenley.org.uk/event/gh-wild-life-group-mill-marsh-meadows/
ATTACH;FMTTYPE=image/jpeg:https://greenerhenley.org.uk/wp-content/uploads/2022/10/fritillaries.jpg
END:VEVENT
BEGIN:VEVENT
DTSTART;TZID=UTC:20221115T191500
DTEND;TZID=UTC:20221115T213000
DTSTAMP:20260423T173120
CREATED:20221103T072704Z
LAST-MODIFIED:20221110T113732Z
UID:15996-1668539700-1668547800@greenerhenley.org.uk
SUMMARY:Greener Henley Open meeting - COP27 & Collective Action
DESCRIPTION:The theme of this year’s COP27 is ‘Together for Implementation’. Or put simply\, time for collective action. \n\n\n\nJoin Greener Henley on Tuesday 15 November\, 7:30 – 9:00pm\, at The Kings Arm Barn\, Henley for a discussion about what action we can take as individuals and as a local community in relation to the climate and nature crises. \nAre you worried about the climate and nature crises?\nDo you want to take action\, but don’t know what to do?\nDo you want to put pressure on our leaders to ensure a safer\, fairer and greener world\, but don’t know where to start? \nTogether we are a voice for change. We will be looking at what we CAN do to make change happen: \n\nHow we can act collectively as a community to make the Government take urgent action to mitigate against the worst effects of the crises\nWhat we can do in our own community to adapt to the challenges we are increasingly seeing as a result of the crises\nHow we can live more sustainably\nHow we can use our voice and influence to encourage our employers\, community\, friends\, and colleagues to take action\n\nYour voice matters\, and our voices are stronger together.  \nDate: Tuesday 15th November 2022\nTime: Please arrive at 7:15pm for a 7:30pm start. We will finish at 9:00pm.\nPlace: The Kings Arms Barn \nImage credit: Professor Ed Hawkins (University of Reading) #showyourstripes
URL:https://greenerhenley.org.uk/event/greener-henley-open-meeting/
LOCATION:Kings Arms Barn\, Kings Arms Barn\, Kings Road\, Henley-on-Thames\, Oxon\, RG9 2DG\, United Kingdom
ATTACH;FMTTYPE=image/png:https://greenerhenley.org.uk/wp-content/uploads/2022/11/EUROPE-United_Kingdom-_All-of-United-Kingdom_-1884-2021-MO.png
END:VEVENT
BEGIN:VEVENT
DTSTART;TZID=UTC:20221105T090000
DTEND;TZID=UTC:20221105T123000
DTSTAMP:20260423T173120
CREATED:20221103T072032Z
LAST-MODIFIED:20221103T072032Z
UID:15994-1667638800-1667651400@greenerhenley.org.uk
SUMMARY:Thames Sewage Event
DESCRIPTION:Thames Sewage event on the Red Lion Lawn \nHenley Mermaids have been raising money for Surfers Against Sewage this year\, and one of our challenges was to swim the length of the Thames from source to Henley\, we only have 2 swims left\, and plan to end our challenge by swimming from Marsh Lock under Henley Bridge to Red Lion Lawns on 5th November 09:00. We will have members of Henley Open Water Swimming Club swimming with us\, and lots of river users coming to the Lawns\, we will be offering hot drinks etc. We will also have Thames 21\, Windrush Wasp – all there as well as press etc.\nCome along\, and perhaps bring lots of friends from Greener Henley & banners etc.\nNews blog is on the GH website here:\nhttps://greenerhenley.org.uk/speak-up-for-our-river/
URL:https://greenerhenley.org.uk/event/thames-sewage-event/
END:VEVENT
BEGIN:VEVENT
DTSTART;TZID=UTC:20221105T090000
DTEND;TZID=UTC:20221105T100000
DTSTAMP:20260423T173120
CREATED:20221030T154222Z
LAST-MODIFIED:20221031T110731Z
UID:15929-1667638800-1667642400@greenerhenley.org.uk
SUMMARY:Speak Up For Our River!
DESCRIPTION:Did you know that Thames Water dumped raw sewage into the River Thames and its tributaries for more than 70\,000 hours in 2021 and into the River Thames at Henley for over 400 hours?\nPlease join us to stand against this sewage in our rivers. The Henley Mermaids\, Henley Open Water Swimming Club\, Greener Henley\, Windrush Against Sewage Pollution\, Oxford Rivers Improvement Network and others will be at the Red Lion Lawn at 9am on 5 November to raise our voices together against sewage pollution! \nWhen – Saturday 5 November\, 9am \nWhere – on the riverbank at Red Lion Lawn (opposite the Relais\, next to Henley Bridge) \nThere will be speakers\, refreshments\, unveiling of a Blue Plaque and prizes for the best costumes and banners! Marshalls will guide people to the bridge for a photo shoot and for the unveiling of the plaque. Find more info here. \nPlease register your interest on the facebook event page here.
URL:https://greenerhenley.org.uk/event/speak-up-for-our-river/
ATTACH;FMTTYPE=image/jpeg:https://greenerhenley.org.uk/wp-content/uploads/2022/10/IMG-5912-scaled.jpg
END:VEVENT
BEGIN:VEVENT
DTSTART;TZID=UTC:20221104T100000
DTEND;TZID=UTC:20221104T113000
DTSTAMP:20260423T173120
CREATED:20221103T071617Z
LAST-MODIFIED:20221103T071805Z
UID:15990-1667556000-1667561400@greenerhenley.org.uk
SUMMARY:Letter to our MP on the CE Bill
DESCRIPTION:Please do join us this Friday 4th November at 10am in front of the Town Hall\, to deliver the letter to our MP\, John Howell at a symbolic hand in\, in front of the Town Hall (photoshoot at 10am\, the letter will be posted afterwards to John’s office). Feel free to just join the hand in on the day\, but if you think you can come\, the organisers would love to know – you can email Kate Oldridge at ceebillalliance.oxford@gmail.com. See Zero Hour Oxfordshire’s Instagram page here. \nThe open letter has received support from over 150 businesses and organisations\, including Henley’s Ella’s Kitchen\, Hobbs of Henley\, Brakspear\, Henley Rugby Club\, Henley Music School\, Badgemore Primary School amongst others. 27 councils across Oxfordshire have now signed council motions in support of the Bill\, asking their MP to support the Bill in Parliament\, including 4 of the 5 district councils (including South Oxfordshire District Council)\, Oxfordshire County Council and Henley Town Council which passed the motion unanimously last July
URL:https://greenerhenley.org.uk/event/letter-to-our-mp-on-the-ce-bill/
END:VEVENT
BEGIN:VEVENT
DTSTART;TZID=UTC:20221026T093000
DTEND;TZID=UTC:20221026T123000
DTSTAMP:20260423T173120
CREATED:20221012T093055Z
LAST-MODIFIED:20221103T072902Z
UID:15590-1666776600-1666787400@greenerhenley.org.uk
SUMMARY:GREENER HENLEY WILDLIFE GROUP - Holy Trinity Churchyard
DESCRIPTION:Holy Trinity Churchyard \nDate and time – Wednesday 26 October\, 9:30 – 12:30 \nMeeting place – in front of Holy Trinity Church \nThings to bring – gardening gloves\, garden shears and garden rakes\, the ones you would use for raking up leaves will be best\, if you have them \nThe main tasks for this session will be raking up cut grass and cutting more of the grass around the gravestones. \nWe hope you will be able to join us for this sessions.  Lex and Sally will provide as many tools as possible but it would be helpful if some people could bring their own.  If you haven’t already done so\, could we please ask everyone who intends coming to work parties to provide the contact details specified in the table below.  Lex has been reviewing our procedures in relation to risk assessments and has found that these details are supposed to be lodged with the Town Council. The procedures state that ‘All information will be kept safe and confidential.’ \nPlease contact Lex or Sally if you have any queries.  It would be helpful if you could let us know if you are attending a session to help ensure we have enough tools\, tea\, coffee and cake.  Lex works for the Town Council on Tuesdays and Wednesdays.  His work mobile is 07508 427026. Alan’s phone number is 07767 054530. \nIf you know anyone else who may be interested\, could you please forward this to them. \nGreener Henley Wildlife Group sessions \nOur sessions are generally pleasant and sociable occasions. Some of the work is quite strenuous\, but there are always lighter tasks for those who would prefer them\, for whatever reason. We have a break mid-morning when refreshments are provided: tea\, coffee and cake. Please bring your own gardening gloves. Any gardening gloves will be all right for tasks like pulling Himalayan Balsam but heavier ones will be needed for working with brambles. No previous experience is necessary\, and tools are usually provided. Tough clothes and stout footwear are recommended. Marsh Meadows is often wet underfoot so waterproof footwear is recommended when we are working there\, particularly if working in the pond area. Volunteers are welcome to join us for the full three hours or any part of them. \nIf you intend coming to work parties and haven’t already provided the information in the table below\, could I please ask you to do so. \n\n\n\nYour Contact Details\n\n\nName:\n\n\n\nAddress:\n\n\n\nHome phone:\n\n\n\nMobile:\n\n\n\nEmail:\n\n\n\nSignature: \n  \n \nDate:
URL:https://greenerhenley.org.uk/event/greener-henley-wildlife-group-holy-trinity-churchyard/
LOCATION:Holy Trinity Church
ATTACH;FMTTYPE=image/jpeg:https://greenerhenley.org.uk/wp-content/uploads/2022/05/sara-bach-y-LBljKf3QQ-unsplash-scaled.jpg
END:VEVENT
BEGIN:VEVENT
DTSTART;TZID=UTC:20221005T093000
DTEND;TZID=UTC:20221005T123000
DTSTAMP:20260423T173120
CREATED:20221001T080311Z
LAST-MODIFIED:20221103T072927Z
UID:15588-1664962200-1664973000@greenerhenley.org.uk
SUMMARY:GREENER HENLEY WILDLIFE GROUP - Mill/Marsh Meadows
DESCRIPTION:Mill/Marsh Meadows \nDate and time –  Wednesday 5 October\, 9:30 – 12:30 \nMeeting place – The Mill Meadows car park\, just beyond the River & Rowing Museum. I have made arrangements with the Town Council for volunteers to park for free for the duration of the work party \nThings to bring – gardening gloves \nThe main task for this session will be raking up cut vegetation but it would be good to also cut some of the sedges and rushes in the ponds.  As always\, litter picking will be on the agenda.  See below for the more general information. Attached please find the risk assessment. \nWe hope you will be able to join us for this sessions.  Lex and Sally will provide as many tools as possible but it would be helpful if some people could bring their own.  If you haven’t already done so\, could we please ask everyone who intends coming to work parties to provide the contact details specified in the table below.  Lex has been reviewing our procedures in relation to risk assessments and has found that these details are supposed to be lodged with the Town Council. The procedures state that ‘All information will be kept safe and confidential.’ \nPlease contact Lex or Sally if you have any queries.  It would be helpful if you could let us know if you are attending a session to help ensure we have enough tools\, tea\, coffee and cake.  Lex works for the Town Council on Tuesdays and Wednesdays.  His work mobile is 07508 427026. Alan’s phone number is 07767 054530. \nIf you know anyone else who may be interested\, could you please forward this to them. \nGreener Henley Wildlife Group sessions \nOur sessions are generally pleasant and sociable occasions. Some of the work is quite strenuous\, but there are always lighter tasks for those who would prefer them\, for whatever reason. We have a break mid-morning when refreshments are provided: tea\, coffee and cake. Please bring your own gardening gloves. Any gardening gloves will be all right for tasks like pulling Himalayan Balsam but heavier ones will be needed for working with brambles. No previous experience is necessary\, and tools are usually provided. Tough clothes and stout footwear are recommended. Marsh Meadows is often wet underfoot so waterproof footwear is recommended when we are working there\, particularly if working in the pond area. Volunteers are welcome to join us for the full three hours or any part of them. \nIf you intend coming to work parties and haven’t already provided the information in the table below\, could I please ask you to do so. \n\n\n\nYour Contact Details\n\n\nName:\n\n\n\nAddress:\n\n\n\nHome phone:\n\n\n\nMobile:\n\n\n\nEmail:\n\n\n\nSignature: \n  \n \nDate:
URL:https://greenerhenley.org.uk/event/greener-henley-wildlife-group-mill-marsh-meadows/
LOCATION:Mill Meadows car park
ATTACH;FMTTYPE=image/jpeg:https://greenerhenley.org.uk/wp-content/uploads/2022/10/fritillaries.jpg
END:VEVENT
END:VCALENDAR