BEGIN:VCALENDAR
VERSION:2.0
PRODID:-//Greener Henley - ECPv6.15.20//NONSGML v1.0//EN
CALSCALE:GREGORIAN
METHOD:PUBLISH
X-ORIGINAL-URL:https://greenerhenley.org.uk
X-WR-CALDESC:Events for Greener Henley
REFRESH-INTERVAL;VALUE=DURATION:PT1H
X-Robots-Tag:noindex
X-PUBLISHED-TTL:PT1H
BEGIN:VTIMEZONE
TZID:UTC
BEGIN:STANDARD
TZOFFSETFROM:+0000
TZOFFSETTO:+0000
TZNAME:UTC
DTSTART:20240101T000000
END:STANDARD
END:VTIMEZONE
BEGIN:VEVENT
DTSTART;TZID=UTC:20251026T190000
DTEND;TZID=UTC:20251026T210000
DTSTAMP:20260423T105437
CREATED:20250908T204040Z
LAST-MODIFIED:20251008T205510Z
UID:20837-1761505200-1761512400@greenerhenley.org.uk
SUMMARY:Green Screen: The Line We Crossed
DESCRIPTION:Green Screen: The Line We Crossed\nThe Regal Picturehouse\, Henley-on-Thames – 7pm\nSunday 26th October 2025\nBook tickets\nA British story of dissent\, drawn from the frontlines of climate resistance. Through the experiences of those who stood in defiance\, it traces the quiet unraveling of our protest rights. The film challenges audiences to question what makes dissent effective and where the line of acceptability is. \nThe film will be followed by a Q&A with the film’s director Liz Smith and activist Trudi Warner who is featured in the film. \nRead more about them here: https://page75productions.com/TLWC-People/ \nWatch the trailer: \n \nDon’t miss out – book your tickets now\n 
URL:https://greenerhenley.org.uk/event/green-screen-the-line-we-crossed/
LOCATION:Henley Regal Picturehouse Cinema
CATEGORIES:Film,Green Screen,Talk
ATTACH;FMTTYPE=image/jpeg:https://greenerhenley.org.uk/wp-content/uploads/2025/10/the-line-we-crossed.jpg
END:VEVENT
END:VCALENDAR