BEGIN:VCALENDAR
VERSION:2.0
PRODID:-//Greener Henley - ECPv6.15.20//NONSGML v1.0//EN
CALSCALE:GREGORIAN
METHOD:PUBLISH
X-WR-CALNAME:Greener Henley
X-ORIGINAL-URL:https://greenerhenley.org.uk
X-WR-CALDESC:Events for Greener Henley
REFRESH-INTERVAL;VALUE=DURATION:PT1H
X-Robots-Tag:noindex
X-PUBLISHED-TTL:PT1H
BEGIN:VTIMEZONE
TZID:UTC
BEGIN:STANDARD
TZOFFSETFROM:+0000
TZOFFSETTO:+0000
TZNAME:UTC
DTSTART:20240101T000000
END:STANDARD
END:VTIMEZONE
BEGIN:VEVENT
DTSTART;TZID=UTC:20250615T113000
DTEND;TZID=UTC:20250615T140000
DTSTAMP:20260423T004131
CREATED:20250421T092126Z
LAST-MODIFIED:20250515T121611Z
UID:19848-1749987000-1749996000@greenerhenley.org.uk
SUMMARY:GBGW 2025 - Henley's Big Green Picnic
DESCRIPTION:Henley’s Big Green Picnic\nMill Meadows\, by the bandstand – 11.30am-2pm\nSunday 15th June 2025\nHenley’s Big Green Picnic marks the last day of Great Big Green Week and is an invitation to everyone to attend a fun\, family-friendly picnic celebrating nature and community. Bring along your favourite food\, games & activities to enjoy in this beautiful spot by the river\, connecting children and families with each other and the natural world. There will be plenty of space to relax and enjoy the great outdoors. \nBerkshire\, Buckinghamshire and Oxfordshire Wildlife Trust (BBOWT) will be there with us\, so come and see them and put your Nature Detective skills to the test – grab a spotter sheet and go exploring! \nWhether you are passionate about protecting our planet or just looking for a joyful day out\, Henley’s Big Green Picnic is the perfect way for our community to come together over a picnic and celebrate a safer\, cleaner and greener future for Henley. \nImportant information \n\nPlease note this is a ‘bring-your-own’ picnic\nThis is weather-dependent event – check our website or social media for updates closer to the day\nBBQs are not permitted due to fire risk\nChildren must be supervised by a responsible adult at all times\, especially near the river\nThere will be volunteers on hand and a designated meeting point in case of lost children\nPlease bring sun protection\, water\, and any personal medications (eg for allergies or stings)\nIf you bring games or activities to enjoy\, please do so at your own risk\n\nFind out about all the events happening at Henley’s Great Big Green Week 2025 here.
URL:https://greenerhenley.org.uk/event/gbgw-2025-henleys-big-green-picnic/
LOCATION:Mill Meadows\, Mill Meadows\, Meadow Road\, Henley-on-Thames\, RG9 1BF\, United Kingdom
CATEGORIES:Great Big Green Week
ATTACH;FMTTYPE=image/jpeg:https://greenerhenley.org.uk/wp-content/uploads/2025/04/henleys-big-green-picnic.jpg
END:VEVENT
BEGIN:VEVENT
DTSTART;TZID=UTC:20250615T150000
DTEND;TZID=UTC:20250615T235900
DTSTAMP:20260423T004131
CREATED:20250429T104252Z
LAST-MODIFIED:20250610T070329Z
UID:19974-1749999600-1750031940@greenerhenley.org.uk
SUMMARY:GBGW 2025 - Paddleboard River Clean
DESCRIPTION:Paddleboard River Clean\nVal Wyatt\, Willow Marina\, RG10\, 3pm\nSunday 15th June\nJoin eco-warrior Lynne Lambourne of Warriors on Waste and Nick from Go With The Flow paddleboarding for a session of paddleboarding for a meaningful and fun day on the water as we come together to clean our beautiful stretch of the river during Big Green Week! With the generous support of Val Wyatt Marine\, caretakers of our river and passionate advocates for a plastic-free future\, we’re hitting the water on paddleboards to remove single-use plastic and other waste polluting our precious river.\nBook your FREE place here \nWhy Join? \n\nHelp protect nature and improve the health of the river\nMake a real difference during Big Green Week\nConnect with like-minded\, caring individuals\nEnjoy time on the water\, doing good and having fun\n\nBring your own paddleboard or book to use one of Nick’s boards — just let us know! \nLet’s take action together and show some love to our local environment.\nEvery bottle picked up is one less harming wildlife. Let’s clean the river\, one paddle at a time!\n \nPlease note:\nParking is limited at the marina\, we encourage you to meet us there on your boards or car pool. Please can you park in the main car park (or meadow if the car park is busy). \nIf you’re bringing your own paddleboard to the River Clean\, you do so at your own risk. Insurance cover is only provided for those using boards hired through Go With The Flo\, and neither Go With The Flo nor Val Wyatt Marine can accept liability for personal equipment or incidents involving privately owned boards. \nBook your FREE place here\, so we have an idea of numbers and boards required. \nJoin us at the marina for drinks and snacks at the lovely @velolife at 3pm before we set off at 3.30pm. \nDATE – Sunday 15 June 2025\nTIME – 3pm\nLOCATION – Val Wyatt Marine Val Wyatt\, Willow Marina\, RG10\nCOST – FREE \nFind out about all the events happening at Henley’s Great Big Green Week 2025 here.
URL:https://greenerhenley.org.uk/event/gbgw-2025-paddleboard-river-clean/
LOCATION:Vall Wyatt\, Val Wyatt\, Willow Marina\, RG10
CATEGORIES:Clean up,Great Big Green Week
ATTACH;FMTTYPE=image/jpeg:https://greenerhenley.org.uk/wp-content/uploads/2023/05/riverclean.jpeg
END:VEVENT
END:VCALENDAR