BEGIN:VCALENDAR
VERSION:2.0
PRODID:-//Greener Henley - ECPv6.15.20//NONSGML v1.0//EN
CALSCALE:GREGORIAN
METHOD:PUBLISH
X-WR-CALNAME:Greener Henley
X-ORIGINAL-URL:https://greenerhenley.org.uk
X-WR-CALDESC:Events for Greener Henley
REFRESH-INTERVAL;VALUE=DURATION:PT1H
X-Robots-Tag:noindex
X-PUBLISHED-TTL:PT1H
BEGIN:VTIMEZONE
TZID:UTC
BEGIN:STANDARD
TZOFFSETFROM:+0000
TZOFFSETTO:+0000
TZNAME:UTC
DTSTART:20240101T000000
END:STANDARD
END:VTIMEZONE
BEGIN:VEVENT
DTSTART;VALUE=DATE:20250420
DTEND;VALUE=DATE:20250601
DTSTAMP:20260422T212951
CREATED:20250421T093052Z
LAST-MODIFIED:20250429T120216Z
UID:19826-1745107200-1748735999@greenerhenley.org.uk
SUMMARY:GBGW 2025 - 'Reflections on the River' poetry competition
DESCRIPTION:Reflections on the River – poetry competition\nSubmit entries by 31 May 2025\nYou are invited to write a poem based on the theme Reflection on the River. Can you express your feelings about the river and why it is important to you and your community or environment? \nYour poem can be any format : maximum 19 lines. \nThere will be 3 age categories: children under 12 years; teens 13 -20 years; adults 21 years or over. \nThere will be £20 Book Token prizes for winners in each category! There will also be a special memorial prize in honour of Richard Fortey. \nCLOSING DATE – Saturday 31st May 2025 \nHow to submit your poem:\nBy post : Sue Turner and David Williams at Candela 19 Reading Road\, Henley on Thames\, RG9 1AB\nBy email : ruskinsbooks@gmail.com.\nPlease give your name\, age and contact details when submitting your poem. \nA Poetry Reading session at Henley Library will showcase the winning entries on Monday 9th June at 6.30pm. Competition entries will be displayed at Henley Library. \nThis event is kindly sponsored by Candela Hypnosis. \nFind out about all the events happening at Henley’s Great Big Green Week 2025 here.
URL:https://greenerhenley.org.uk/event/gbgw-2025-reflections-on-the-river-poetry-competition/
CATEGORIES:Great Big Green Week
ATTACH;FMTTYPE=image/jpeg:https://greenerhenley.org.uk/wp-content/uploads/2025/04/pexels-mikebirdy-4456288-scaled-e1750840978752.jpg
END:VEVENT
BEGIN:VEVENT
DTSTART;TZID=UTC:20250430T190000
DTEND;TZID=UTC:20250430T213000
DTSTAMP:20260422T212951
CREATED:20250322T164312Z
LAST-MODIFIED:20250322T164312Z
UID:19668-1746039600-1746048600@greenerhenley.org.uk
SUMMARY:Greener Henley Strategy Launch
DESCRIPTION:Join Greener Henley for an inspiring evening as we unveil our ambitious strategy: A Bold New Vision for Henley’s Future. \n\n\nWe’ll be joined by expert guest speakers exploring the crucial role of newly registered charity Greener Henley in tackling the climate and nature emergency\, highlighting how local community action can address these pressing challenges. \nWhile large-scale\, national policies and international agreements are essential\, meaningful change often begins at the grassroots level\, where communities can implement practical solutions tailored to their unique environments. By working together\, communities create a ripple effect—demonstrating successful models that can be scaled up and replicated elsewhere\, ultimately strengthening global efforts to combat climate change and nature loss. \nGreener Henley is Henley’s local climate and nature action charity\, which seeks to bring our community together to make meaningful change. \nOur expert panel will consist of: \n\nProfessor Christopher Merchant (Professor in Ocean and Earth Observation\, University of Reading) – Understanding the science at a local level\nLouisa Reeve (ecologist and former Team GB rower) – The role of nature in our environment\, and how it’s changing\nTim Hoskins (headteacher at Badgemore Primary School\, Henley-on-Thames) – How schools can inspire change\n\n\nCome along to find out how local community action can make a difference\, and how together we can create a greener\, cleaner\, and safer Henley for future generations.  \nDoors open at 7pm\n7:30pm – 8:45pm: Strategy launch and panel discussion including Q&A\n8:45pm – 9:30pm: Drinks\, nibbles and conversation
URL:https://greenerhenley.org.uk/event/greener-henley-strategy-launch/
LOCATION:River & Rowing Museum\, Mill Meadows\, Henley-on-Thames\, Oxfordshire\, RG9 1BF\, United Kingdom
CATEGORIES:Meeting,Talk
ATTACH;FMTTYPE=image/jpeg:https://greenerhenley.org.uk/wp-content/uploads/2025/03/strategy_launch.jpg
END:VEVENT
END:VCALENDAR