BEGIN:VCALENDAR
VERSION:2.0
PRODID:-//Greener Henley - ECPv6.15.20//NONSGML v1.0//EN
CALSCALE:GREGORIAN
METHOD:PUBLISH
X-WR-CALNAME:Greener Henley
X-ORIGINAL-URL:https://greenerhenley.org.uk
X-WR-CALDESC:Events for Greener Henley
REFRESH-INTERVAL;VALUE=DURATION:PT1H
X-Robots-Tag:noindex
X-PUBLISHED-TTL:PT1H
BEGIN:VTIMEZONE
TZID:UTC
BEGIN:STANDARD
TZOFFSETFROM:+0000
TZOFFSETTO:+0000
TZNAME:UTC
DTSTART:20240101T000000
END:STANDARD
END:VTIMEZONE
BEGIN:VEVENT
DTSTART;TZID=UTC:20250405T143000
DTEND;TZID=UTC:20250405T163000
DTSTAMP:20260422T195519
CREATED:20250331T194540Z
LAST-MODIFIED:20250331T194540Z
UID:19696-1743863400-1743870600@greenerhenley.org.uk
SUMMARY:Spring Wildflower walk in Holy Trinity Churchyard
DESCRIPTION:Spring Wildflower walk in Holy Trinity Churchyard \nSaturday 5 April 2025\, 2.30 pm \nTrinity Churchyard is one of the best places in Henley to see local wildflowers. Join us on Saturday 5 April at 230pm for a walk round the churchyard to see the glorious spread of primroses and any other wildflowers that are out. The walk will be followed by tea and cake in the church. Sally Rankin\, local wildflower enthusiast and leader of Greener Henley’s Wildlife Group\, will be leading the walk. \nMeet in front of the Holy Trinity Church\, Greys Hill\, Henley on Thames\, RG9 ISE at 2:30 pm. \nContact Sally on 07941 207687 if you need further information.
URL:https://greenerhenley.org.uk/event/spring-wildflower-walk-in-holy-trinity-churchyard/
LOCATION:Holy Trinity Church
CATEGORIES:Walk,Wildlife Group
END:VEVENT
END:VCALENDAR