BEGIN:VCALENDAR
VERSION:2.0
PRODID:-//Greener Henley - ECPv6.15.20//NONSGML v1.0//EN
CALSCALE:GREGORIAN
METHOD:PUBLISH
X-ORIGINAL-URL:https://greenerhenley.org.uk
X-WR-CALDESC:Events for Greener Henley
REFRESH-INTERVAL;VALUE=DURATION:PT1H
X-Robots-Tag:noindex
X-PUBLISHED-TTL:PT1H
BEGIN:VTIMEZONE
TZID:UTC
BEGIN:STANDARD
TZOFFSETFROM:+0000
TZOFFSETTO:+0000
TZNAME:UTC
DTSTART:20230101T000000
END:STANDARD
END:VTIMEZONE
BEGIN:VEVENT
DTSTART;TZID=UTC:20241202T190000
DTEND;TZID=UTC:20241202T210000
DTSTAMP:20260423T010047
CREATED:20241106T102634Z
LAST-MODIFIED:20241106T102634Z
UID:19480-1733166000-1733173200@greenerhenley.org.uk
SUMMARY:Greener Henley AGM
DESCRIPTION:We are inviting all our followers\, supporters\, volunteers and anyone who’s been watching us from the sidelines to our AGM on 2nd December. \nCome along to hear about all our brilliant work over the past year and to catch our very exciting BIG ANNOUNCEMENT\, so save the date!
URL:https://greenerhenley.org.uk/event/greener-henley-agm/
LOCATION:Henley Town Hall\, Town Hall\, Market Place\, Henley-on-Thames\, Oxfordshire\, RG9 2AQ\, United Kingdom
CATEGORIES:Meeting
ATTACH;FMTTYPE=image/jpeg:https://greenerhenley.org.uk/wp-content/uploads/2024/11/agm-banner-1080.jpg
END:VEVENT
END:VCALENDAR